BEGIN:VCALENDAR
VERSION:2.0
PRODID:-//NVIT - ECPv6.15.20//NONSGML v1.0//EN
CALSCALE:GREGORIAN
METHOD:PUBLISH
X-ORIGINAL-URL:https://www.nvit.ca
X-WR-CALDESC:Events for NVIT
REFRESH-INTERVAL;VALUE=DURATION:PT1H
X-Robots-Tag:noindex
X-PUBLISHED-TTL:PT1H
BEGIN:VTIMEZONE
TZID:America/Vancouver
BEGIN:DAYLIGHT
TZOFFSETFROM:-0800
TZOFFSETTO:-0700
TZNAME:PDT
DTSTART:20250309T100000
END:DAYLIGHT
BEGIN:STANDARD
TZOFFSETFROM:-0700
TZOFFSETTO:-0800
TZNAME:PST
DTSTART:20251102T090000
END:STANDARD
BEGIN:DAYLIGHT
TZOFFSETFROM:-0800
TZOFFSETTO:-0700
TZNAME:PDT
DTSTART:20260308T100000
END:DAYLIGHT
BEGIN:STANDARD
TZOFFSETFROM:-0700
TZOFFSETTO:-0800
TZNAME:PST
DTSTART:20261101T090000
END:STANDARD
BEGIN:DAYLIGHT
TZOFFSETFROM:-0800
TZOFFSETTO:-0700
TZNAME:PDT
DTSTART:20270314T100000
END:DAYLIGHT
BEGIN:STANDARD
TZOFFSETFROM:-0700
TZOFFSETTO:-0800
TZNAME:PST
DTSTART:20271107T090000
END:STANDARD
END:VTIMEZONE
BEGIN:VEVENT
DTSTART;VALUE=DATE:20260121
DTEND;VALUE=DATE:20260122
DTSTAMP:20260421T063253
CREATED:20260108T203533Z
LAST-MODIFIED:20260108T203622Z
UID:7012-1768953600-1769039999@www.nvit.ca
SUMMARY:Bell Let's Talk
DESCRIPTION:
URL:https://www.nvit.ca/event/bell-lets-talk-2/
LOCATION:All Campuses\, British Columbia\, Canada
CATEGORIES:Merritt Campus,NVIT Community,Vancouver Campus
END:VEVENT
BEGIN:VEVENT
DTSTART;TZID=America/Vancouver:20260121T083000
DTEND;TZID=America/Vancouver:20260121T163000
DTSTAMP:20260421T063253
CREATED:20251210T181118Z
LAST-MODIFIED:20251210T182606Z
UID:6893-1768984200-1769013000@www.nvit.ca
SUMMARY:Basic First Aid
DESCRIPTION:This Worksafe BC course provides an introductory knowledge on how to identify injuries and administer first aid to injuries. It is suitable for people in these industries: small construction jobs (roofing\, painting\, drywall\, framing\, etc.)\, office workers\, small manufacturing and assembling shops and restaurant workers. No prior first aid knowledge required to attend this course. Minimum age 15 years old. \n  \nThe registration form is available here: \nContinuing Studies
URL:https://www.nvit.ca/event/basic-first-aid-2/
LOCATION:Merritt Campus\, 4155 Belshaw St.\, Merritt\, British Columbia\, V1K 1R1\, Canada
CATEGORIES:Merritt Campus,Public
END:VEVENT
BEGIN:VEVENT
DTSTART;TZID=America/Vancouver:20260121T120000
DTEND;TZID=America/Vancouver:20260121T130000
DTSTAMP:20260421T063253
CREATED:20251118T234548Z
LAST-MODIFIED:20251119T230223Z
UID:6744-1768996800-1769000400@www.nvit.ca
SUMMARY:Lunch and Learn: Citation 101
DESCRIPTION:
URL:https://www.nvit.ca/event/lunch-and-learn-citation-101/
LOCATION:All Campuses\, British Columbia\, Canada
CATEGORIES:Merritt Campus,NVIT Community,Vancouver Campus,Virtual
END:VEVENT
BEGIN:VEVENT
DTSTART;TZID=America/Vancouver:20260121T121000
DTEND;TZID=America/Vancouver:20260121T125500
DTSTAMP:20260421T063253
CREATED:20260106T231635Z
LAST-MODIFIED:20260106T231635Z
UID:6995-1768997400-1769000100@www.nvit.ca
SUMMARY:Beginner Yoga Session
DESCRIPTION:Day/Time: Wednesdays 12:10-12:55pm\nLocation: Lecture Theatre\nCost: $30 for the session\, or $10 drop-in if space permits \nAvailable spaces: 15\nTo register\, email Megan at\nmpaquette@nvit.ca
URL:https://www.nvit.ca/event/beginner-yoga-session-3/
LOCATION:Merritt Campus\, 4155 Belshaw St.\, Merritt\, British Columbia\, V1K 1R1\, Canada
CATEGORIES:Merritt Campus,NVIT Community
ORGANIZER;CN="Megan Paquette":MAILTO:mpaquette@nvit.ca
END:VEVENT
END:VCALENDAR