BEGIN:VCALENDAR
VERSION:2.0
PRODID:-//NVIT - ECPv6.15.20//NONSGML v1.0//EN
CALSCALE:GREGORIAN
METHOD:PUBLISH
X-ORIGINAL-URL:https://www.nvit.ca
X-WR-CALDESC:Events for NVIT
REFRESH-INTERVAL;VALUE=DURATION:PT1H
X-Robots-Tag:noindex
X-PUBLISHED-TTL:PT1H
BEGIN:VTIMEZONE
TZID:America/Vancouver
BEGIN:DAYLIGHT
TZOFFSETFROM:-0800
TZOFFSETTO:-0700
TZNAME:PDT
DTSTART:20240310T100000
END:DAYLIGHT
BEGIN:STANDARD
TZOFFSETFROM:-0700
TZOFFSETTO:-0800
TZNAME:PST
DTSTART:20241103T090000
END:STANDARD
BEGIN:DAYLIGHT
TZOFFSETFROM:-0800
TZOFFSETTO:-0700
TZNAME:PDT
DTSTART:20250309T100000
END:DAYLIGHT
BEGIN:STANDARD
TZOFFSETFROM:-0700
TZOFFSETTO:-0800
TZNAME:PST
DTSTART:20251102T090000
END:STANDARD
BEGIN:DAYLIGHT
TZOFFSETFROM:-0800
TZOFFSETTO:-0700
TZNAME:PDT
DTSTART:20260308T100000
END:DAYLIGHT
BEGIN:STANDARD
TZOFFSETFROM:-0700
TZOFFSETTO:-0800
TZNAME:PST
DTSTART:20261101T090000
END:STANDARD
END:VTIMEZONE
BEGIN:VEVENT
DTSTART;TZID=America/Vancouver:20251127T120000
DTEND;TZID=America/Vancouver:20251127T130000
DTSTAMP:20260421T052507
CREATED:20251119T202819Z
LAST-MODIFIED:20251119T230141Z
UID:6790-1764244800-1764248400@www.nvit.ca
SUMMARY:Empowered Boundaries: Lesson 5 - Digital Respect & Super Slap
DESCRIPTION:Empowered Boundaries \n10-Lesson Hybrid Self-Defence Program \nFirst Nations Self-Defence Instructor: Kru Melissa Moses \nGoal: Strengthen inner and outer safety through Indigenous values of Respect\, Awareness\, Balance\, and Empowerment. \nNote: Students may choose to imagine or visualize the physical movements rather than perform them. Every lesson honours individual comfort\, accessibility\, and safety. \n  \nNovember 27th Lesson 5: Digital Respect & Super Slap \nNon-Physical: Online consent & professionalism \nPhysical: Super Slap + verbal “No!” \nTakeaway: Assertiveness creates safety online and face-to-face. \nhttps://teams.microsoft.com/meet/2390528712716?p=YNuGqB7wsOU6sLVWRr \n  \n 
URL:https://www.nvit.ca/event/empowered-boundaries-lesson-5-boundaries-trap-and-roll-escape/
LOCATION:Virtual
CATEGORIES:NVIT Community,Virtual
END:VEVENT
BEGIN:VEVENT
DTSTART;TZID=America/Vancouver:20251127T173000
DTEND;TZID=America/Vancouver:20251127T193000
DTSTAMP:20260421T052507
CREATED:20251126T195734Z
LAST-MODIFIED:20251126T195734Z
UID:6841-1764264600-1764271800@www.nvit.ca
SUMMARY:Community Drum Circle
DESCRIPTION:
URL:https://www.nvit.ca/event/community-drum-circle/
LOCATION:Merritt Campus\, 4155 Belshaw St.\, Merritt\, British Columbia\, V1K 1R1\, Canada
CATEGORIES:Public
END:VEVENT
END:VCALENDAR