BEGIN:VCALENDAR
VERSION:2.0
PRODID:-//NVIT - ECPv6.15.20//NONSGML v1.0//EN
CALSCALE:GREGORIAN
METHOD:PUBLISH
X-ORIGINAL-URL:https://www.nvit.ca
X-WR-CALDESC:Events for NVIT
REFRESH-INTERVAL;VALUE=DURATION:PT1H
X-Robots-Tag:noindex
X-PUBLISHED-TTL:PT1H
BEGIN:VTIMEZONE
TZID:America/Vancouver
BEGIN:DAYLIGHT
TZOFFSETFROM:-0800
TZOFFSETTO:-0700
TZNAME:PDT
DTSTART:20240310T100000
END:DAYLIGHT
BEGIN:STANDARD
TZOFFSETFROM:-0700
TZOFFSETTO:-0800
TZNAME:PST
DTSTART:20241103T090000
END:STANDARD
BEGIN:DAYLIGHT
TZOFFSETFROM:-0800
TZOFFSETTO:-0700
TZNAME:PDT
DTSTART:20250309T100000
END:DAYLIGHT
BEGIN:STANDARD
TZOFFSETFROM:-0700
TZOFFSETTO:-0800
TZNAME:PST
DTSTART:20251102T090000
END:STANDARD
BEGIN:DAYLIGHT
TZOFFSETFROM:-0800
TZOFFSETTO:-0700
TZNAME:PDT
DTSTART:20260308T100000
END:DAYLIGHT
BEGIN:STANDARD
TZOFFSETFROM:-0700
TZOFFSETTO:-0800
TZNAME:PST
DTSTART:20261101T090000
END:STANDARD
END:VTIMEZONE
BEGIN:VEVENT
DTSTART;TZID=America/Vancouver:20251122T100000
DTEND;TZID=America/Vancouver:20251123T160000
DTSTAMP:20260421T070409
CREATED:20251117T233319Z
LAST-MODIFIED:20251119T230320Z
UID:6675-1763805600-1763913600@www.nvit.ca
SUMMARY:Teck Highland Valley Copper Career Fair
DESCRIPTION:Teck Highland Valley Copper (HVC) is excited to host a two-day Career Fair at NVIT\, open to\nall members of the community. \nWhen: Saturday November 22 and Sunday November 23 from 10:00 a.m. – 4:00 p.m. \nThis event will spotlight awarded contractors involved in the HVC Mine Life Extension (MLE)\nproject and provide a unique opportunity to: \n\nDiscover current and upcoming employment opportunities\nConnect directly with contractors and explore career paths\nBuild valuable relationships and expand your professional network\n\nWhether you’re actively seeking work or simply curious about what’s ahead\, attend to learn\nmore about the opportunities available through the HVC MLE project. Lunch will be\nprovided. \nDaily Door Prizes and Trade spotlight speakers and more. \nHave questions? Contact VHOIndigenousRelations@teck.com
URL:https://www.nvit.ca/event/teck-highland-valley-copper-career-fair/
LOCATION:Merritt Campus\, 4155 Belshaw St.\, Merritt\, British Columbia\, V1K 1R1\, Canada
CATEGORIES:Merritt Campus,Public
ORGANIZER;CN="Teck Highland Valley Copper":MAILTO:VHOIndigenousRelations@teck.com
END:VEVENT
END:VCALENDAR